BEGIN:VCALENDAR
VERSION:2.0
PRODID:-//Amboxie - ECPv6.15.17.1//NONSGML v1.0//EN
CALSCALE:GREGORIAN
METHOD:PUBLISH
X-WR-CALNAME:Amboxie
X-ORIGINAL-URL:https://amboxie.com
X-WR-CALDESC:Events for Amboxie
REFRESH-INTERVAL;VALUE=DURATION:PT1H
X-Robots-Tag:noindex
X-PUBLISHED-TTL:PT1H
BEGIN:VTIMEZONE
TZID:America/Los_Angeles
BEGIN:DAYLIGHT
TZOFFSETFROM:-0800
TZOFFSETTO:-0700
TZNAME:PDT
DTSTART:20250309T100000
END:DAYLIGHT
BEGIN:STANDARD
TZOFFSETFROM:-0700
TZOFFSETTO:-0800
TZNAME:PST
DTSTART:20251102T090000
END:STANDARD
BEGIN:DAYLIGHT
TZOFFSETFROM:-0800
TZOFFSETTO:-0700
TZNAME:PDT
DTSTART:20260308T100000
END:DAYLIGHT
BEGIN:STANDARD
TZOFFSETFROM:-0700
TZOFFSETTO:-0800
TZNAME:PST
DTSTART:20261101T090000
END:STANDARD
BEGIN:DAYLIGHT
TZOFFSETFROM:-0800
TZOFFSETTO:-0700
TZNAME:PDT
DTSTART:20270314T100000
END:DAYLIGHT
BEGIN:STANDARD
TZOFFSETFROM:-0700
TZOFFSETTO:-0800
TZNAME:PST
DTSTART:20271107T090000
END:STANDARD
END:VTIMEZONE
BEGIN:VEVENT
DTSTART;TZID=America/Los_Angeles:20260423T033000
DTEND;TZID=America/Los_Angeles:20260423T163000
DTSTAMP:20260423T012845
CREATED:20260325T201342Z
LAST-MODIFIED:20260402T200434Z
UID:10004351-1776915000-1776961800@amboxie.com
SUMMARY:Read to a Dog Carmichael Library
DESCRIPTION:Kids are invited to practice their skills by reading aloud to a certified therapy dog (and their handler). Attendees may bring a book to read or choose one at the Library. \nKids are invited to practice their skills by reading aloud to a certified therapy dog (and their handler). Attendees may bring a book to read or choose one at the Library. \nThis program is designed for kids (ages 6-12). Struggling and reluctant readers are encouraged to attend\, as are readers who would like some additional practice. No registration is necessary; drop-ins are welcome.
URL:https://amboxie.com/event/read-to-a-dog-carmichael-library-25/2026-04-23/
LOCATION:Carmichael Library\, 5605 Marconi Ave\, Carmichael\, 95608\, United States
CATEGORIES:Community Events
ATTACH;FMTTYPE=image/png:https://amboxie.com/wp-content/uploads/2026/03/read-to-a-dog.png
END:VEVENT
BEGIN:VEVENT
DTSTART;TZID=America/Los_Angeles:20260423T080000
DTEND;TZID=America/Los_Angeles:20260423T120000
DTSTAMP:20260423T012845
CREATED:20260309T183659Z
LAST-MODIFIED:20260309T183659Z
UID:10002919-1776931200-1776945600@amboxie.com
SUMMARY:Florin Certified Farmers’ Market
DESCRIPTION:The Florin Certified Farmers’ Market (sometimes known as the Florin Road Farmers’ Market) is one of the longest-running certified farmers’ markets in California and continues to provide customers with affordable\, delicious\, groceries from local producers!
URL:https://amboxie.com/event/florin-certified-farmers-market/2026-04-23/
LOCATION:Alchemist\, 2901 K Street\, Suite 302\, Sacramento\, CA\, United States
CATEGORIES:Farmers Market
ATTACH;FMTTYPE=image/png:https://amboxie.com/wp-content/uploads/2026/03/624-325-fm-3-1.png
ORGANIZER;CN="Alchemist":MAILTO:info@alchemistcdc.org
END:VEVENT
BEGIN:VEVENT
DTSTART;TZID=America/Los_Angeles:20260423T093000
DTEND;TZID=America/Los_Angeles:20260423T140000
DTSTAMP:20260423T012845
CREATED:20260306T232607Z
LAST-MODIFIED:20260307T012301Z
UID:10002662-1776936600-1776952800@amboxie.com
SUMMARY:Kaiser Eureka Farmers' Market
DESCRIPTION:1600 Eureka Rd\, Roseville CA \nTHURSDAYS\n9:30 a.m. – 2:00 p.m.\nOPEN YEAR ROUND! \nOpen Rain or Shine!
URL:https://amboxie.com/event/kaiser-eureka-farmers-market/2026-04-23/
LOCATION:Kaiser Permanente facility Eureka\, 1600 Eureka Rd\, Roseville\, 95661\, United States
CATEGORIES:Farmers Market
ATTACH;FMTTYPE=image/png:https://amboxie.com/wp-content/uploads/2026/03/624-325-fm-8.png
ORGANIZER;CN="Placer Grown":MAILTO:PlacerAg@placer.ca.gov
END:VEVENT
BEGIN:VEVENT
DTSTART;TZID=America/Los_Angeles:20260423T100000
DTEND;TZID=America/Los_Angeles:20260423T170000
DTSTAMP:20260423T012845
CREATED:20260401T183401Z
LAST-MODIFIED:20260401T192352Z
UID:10004101-1776938400-1776963600@amboxie.com
SUMMARY:Botanical Brushstrokes - Atrum Gallery El Dorado Hills
DESCRIPTION:The El Dorado Hills Arts Association presents the Annual Spring Studio Tour for 2026 and welcomes art lovers to meet painters\, sculptors\, photographers\, wood shapers\, potters\, jewelers\, and mixed media artists. \nThis year\, tour participants can visit 47 local artists at 13 locations. The two featured artists in this Atrium Gallery EDH exhibit will be here as part of the Studio Tour the weekend of May 16 and 17\, from 10-5 each day. \nThe current Atrium Gallery EDH exhibit will be open from March 23 to May 17\, 2026. \nAll are welcome to meet the artists at the reception\, Saturday\, March 28 from 5:00-7:30pm.\nJENNY HUANG \nI draw my inspiration from and become captivated by the transient nature of life and random offerings that so often go unnoticed. \nI love natural light and hope to evoke introspection and celebration into our journeys\, finding beauty in the human experience. \nI enjoy the fluidity and unpredictability of watercolors and their interplay between color and light. As each brushstroke dialogues with the paper\, my hope is that we will discover peace\, beauty and a reminder to cherish each moment. \njennyhuangyork@gmail.com \nVOLHA NARUTA-JOHNSON \nThe textured mountain and Northern Lights paintings shown at the Atrium Gallery EDH come from a very personal place. I spent several months living in an ashram in Nepal\, where I saw Everest almost every day. \nIt was steady\, quiet\, and impossible to ignore. For me\, it became a symbol of inner strength\, the part of us that stays standing no matter what is happening around us. When I build my textured mountain paintings\, I am thinking about that feeling. Each mountain is a reminder that every person has their own “Everest” inside them. \nThe Northern Lights carry a similar meaning. They appear only when certain elements of nature come together—solar energy\, the Earth’s magnetic field\, and the atmosphere. \nWhen those forces align\, something extraordinary becomes visible. I see painting the same way. The work happens when experience\, emotion\, and material meet at the right moment. It feels less like control and more like allowing something to appear. \nolganaruta0777@icloud.com \n 
URL:https://amboxie.com/event/botanical-brushstrokes-atrum-gallery-el-dorado-hills/2026-04-23/
LOCATION:El Dorado Hills Towncenter – Atrium Gallery\, 4364 Towncenter Blvd. Building 102\, El Dorado Hills\, CA\, United States
CATEGORIES:Community Events
ATTACH;FMTTYPE=image/png:https://amboxie.com/wp-content/uploads/2026/04/EDH.png
ORGANIZER;CN="El Dorado Hills Arts Association":MAILTO:edhaamail@eldoradohillsarts.com
END:VEVENT
BEGIN:VEVENT
DTSTART;TZID=America/Los_Angeles:20260423T103000
DTEND;TZID=America/Los_Angeles:20260423T110000
DTSTAMP:20260423T012845
CREATED:20260218T215127Z
LAST-MODIFIED:20260226T215253Z
UID:10001560-1776940200-1776942000@amboxie.com
SUMMARY:Storytime with the Folsom City Zoo Sanctuary
DESCRIPTION:Families are invited to enjoy engaging\, animal-themed storytimes led by the Zoo Sanctuary’s volunteer docents. Each storytime features books about a variety of animals\, brought to life with the help of animal puppets that encourage interaction and delight young listeners. Stories are best suited for children ages 4 and up\, but all ages are welcome to attend. \nAdmission: Regular zoo admission fees apply \nWhen: 10:30 a.m. on the fourth Thursday of the month \nWhere: Canid Patio inside the Zoo Sanctuary \n(In the event of rain\, storytime will move to the Barnyard Experience) \nAdmission: Regular zoo admission fees apply
URL:https://amboxie.com/event/storytime-with-the-folsom-city-zoo-sanctuary/2026-04-23/
LOCATION:Folsom City Zoo\, 403 Stafford Street\, Folsom\, 95630
CATEGORIES:Community Events
ATTACH;FMTTYPE=image/png:https://amboxie.com/wp-content/uploads/2026/02/624-325-storytime-1.png
END:VEVENT
BEGIN:VEVENT
DTSTART;TZID=America/Los_Angeles:20260423T103000
DTEND;TZID=America/Los_Angeles:20260423T113000
DTSTAMP:20260423T012845
CREATED:20260326T231339Z
LAST-MODIFIED:20260326T231339Z
UID:10003716-1776940200-1776943800@amboxie.com
SUMMARY:Family Storytime Orangevale Library
DESCRIPTION:  \nJoin us for songs\, rhymes\, movement activities and stories all designed to support the early learning skills of young children. \nThe program starts with storytime followed by activities for you and your child to meet others and play together. \nThis program is for parents and caregivers with young (0-5) children; older siblings are welcome to attend. \nAGE GROUP: | Toddlers & Preschoolers | Babies |
URL:https://amboxie.com/event/family-storytime-orangevale-library/2026-04-23/
LOCATION:Orangevale Library\, 8820 Greenback Lane\, Orangevale\, CA\, 95662\, United States
CATEGORIES:Community Events
ATTACH;FMTTYPE=image/png:https://amboxie.com/wp-content/uploads/2026/03/OV-story.png
END:VEVENT
BEGIN:VEVENT
DTSTART;TZID=America/Los_Angeles:20260423T190000
DTEND;TZID=America/Los_Angeles:20260423T210000
DTSTAMP:20260423T012845
CREATED:20260402T221855Z
LAST-MODIFIED:20260402T223240Z
UID:10004382-1776970800-1776978000@amboxie.com
SUMMARY:Bahama Beach Sunrise Art Class in Elk Grove
DESCRIPTION:Pink sand\, blue water and a serene sunrise make us all want to escape to Bahama Beach. \nEveryone is required to have a paid seat in order to attend a class. \nListed times are INSTRUCTION times. Absolutely NO LATE ARRIVALS-this is a live event. Please arrive at least 20 minutes early to order at the bar and get seated. \nNO LATE ARRIVALS ALLOWED. \nNOTE WHEN PURCHASING MORE THAN ONE SEAT! \nIf ordering surface upgrades\, you need to ADD EACH SEAT to your cart ONE AT A TIME with the upgrade and purchase choices for THAT seat\, then go back and add the next seat with choices\, etc. \nREFUND/CREDIT POLICY: If you cannot attend your scheduled class\, please contact us at least 24 hours in advance. \nWe will be happy to issue you a studio credit that can be used toward a future class registration (to be used within 60 days). No credits will be issued if less than 24 hour notice is given. (includes no shows). \nMore than 24 hours notice\, you may obtain a refund for your class transaction amount minus a fee to cover merchant services costs associated with card refund transactions. \nA $10 service fee per transaction will apply to all requested refunds $100 and under\, 10% of sales total over $100. There are no refunds for paint kits or video kits once ordered.
URL:https://amboxie.com/event/bahama-beach-sunrise-art-class-in-elk-grove/
LOCATION:Pinot’s Palette\, 8962 Elk Grove Blvd\, Elk Grove\, CA\, United States
CATEGORIES:Classes
ATTACH;FMTTYPE=image/png:https://amboxie.com/wp-content/uploads/2026/04/beach.png
ORGANIZER;CN="Pinot's Palette":MAILTO:ElkgroveCAUS@pinotspalette.com
END:VEVENT
END:VCALENDAR