BEGIN:VCALENDAR
VERSION:2.0
PRODID:-//Amboxie - ECPv6.15.17.1//NONSGML v1.0//EN
CALSCALE:GREGORIAN
METHOD:PUBLISH
X-ORIGINAL-URL:https://amboxie.com
X-WR-CALDESC:Events for Amboxie
REFRESH-INTERVAL;VALUE=DURATION:PT1H
X-Robots-Tag:noindex
X-PUBLISHED-TTL:PT1H
BEGIN:VTIMEZONE
TZID:America/Los_Angeles
BEGIN:DAYLIGHT
TZOFFSETFROM:-0800
TZOFFSETTO:-0700
TZNAME:PDT
DTSTART:20240310T100000
END:DAYLIGHT
BEGIN:STANDARD
TZOFFSETFROM:-0700
TZOFFSETTO:-0800
TZNAME:PST
DTSTART:20241103T090000
END:STANDARD
BEGIN:DAYLIGHT
TZOFFSETFROM:-0800
TZOFFSETTO:-0700
TZNAME:PDT
DTSTART:20250309T100000
END:DAYLIGHT
BEGIN:STANDARD
TZOFFSETFROM:-0700
TZOFFSETTO:-0800
TZNAME:PST
DTSTART:20251102T090000
END:STANDARD
BEGIN:DAYLIGHT
TZOFFSETFROM:-0800
TZOFFSETTO:-0700
TZNAME:PDT
DTSTART:20260308T100000
END:DAYLIGHT
BEGIN:STANDARD
TZOFFSETFROM:-0700
TZOFFSETTO:-0800
TZNAME:PST
DTSTART:20261101T090000
END:STANDARD
BEGIN:DAYLIGHT
TZOFFSETFROM:-0800
TZOFFSETTO:-0700
TZNAME:PDT
DTSTART:20270314T100000
END:DAYLIGHT
BEGIN:STANDARD
TZOFFSETFROM:-0700
TZOFFSETTO:-0800
TZNAME:PST
DTSTART:20271107T090000
END:STANDARD
END:VTIMEZONE
BEGIN:VEVENT
DTSTART;TZID=America/Los_Angeles:20251001T080000
DTEND;TZID=America/Los_Angeles:20260127T170000
DTSTAMP:20260419T075447
CREATED:20250904T032118Z
LAST-MODIFIED:20250904T032243Z
UID:10000005-1759305600-1769533200@amboxie.com
SUMMARY:Macrame Private Workshops
DESCRIPTION:Request a private workshop \nWorkshop Duration: 2-3 hours\, depending on the project \nMinimum Participants: 4 individuals or the equivalent cost of 4 participants \nMaximum Participants: 6-12 individuals\, depending on the project \nFee: $60 per person \nBooking: A 50% non-refundable deposit of 4 participants is required to secure your custom workshop slot. The remaining 50% balance is due on the day of the workshop.
URL:https://amboxie.com/event/macrame-private-workshops/
LOCATION:Let Life Fly\, Colfax\, CA\, 95713\, United States
CATEGORIES:Classes
ATTACH;FMTTYPE=image/png:https://amboxie.com/wp-content/uploads/2025/09/Untitled-design-3.png
END:VEVENT
BEGIN:VEVENT
DTSTART;TZID=America/Los_Angeles:20260121T093000
DTEND;TZID=America/Los_Angeles:20260121T100000
DTSTAMP:20260419T075447
CREATED:20251217T021924Z
LAST-MODIFIED:20251217T021924Z
UID:10000509-1768987800-1768989600@amboxie.com
SUMMARY:EDH - Mother Goose On The Loose
DESCRIPTION:Mother Goose on the Loose is an award-winning program that combines music\, movement\, rhyming\, visual literacy\, and language development to help children get ready to read. This interactive\, lap-sit storytime is perfectly suited for infants and toddlers (ages birth – 2 years old) with their caregivers. Join Miss. Savannah and Mrs.Yanina at 9:30 or 10:30!
URL:https://amboxie.com/event/edh-mother-goose-on-the-loose/2026-01-21/1/
LOCATION:El Dorado Hills County Library\, 7455 Silva Valley Pkwy\, El Dorado Hills\, CA\, 95762\, United States
CATEGORIES:Community Events
ATTACH;FMTTYPE=image/png:https://amboxie.com/wp-content/uploads/2025/12/624-325-Eldorado.png
END:VEVENT
BEGIN:VEVENT
DTSTART;TZID=America/Los_Angeles:20260121T100000
DTEND;TZID=America/Los_Angeles:20260121T110000
DTSTAMP:20260419T075447
CREATED:20251205T003652Z
LAST-MODIFIED:20251205T003740Z
UID:10000292-1768989600-1768993200@amboxie.com
SUMMARY:Mom Walk – Sip & Stroll
DESCRIPTION:Connect with other local moms! Join a El Dorado Hills local group for moms for a refreshing morning stroll at the Amphitheater in El Dorado Hills Town Center. This is a great opportunity to enjoy fresh air\, meaningful conversation\, and build a supportive community of moms. Whether you’re a new mom or a seasoned pro\, all are mom walkers welcome to sip and stroll. Grab a drink from your favorite Town Center business to enjoy on your stroll.
URL:https://amboxie.com/event/mom-walk-sip-stroll-7/
LOCATION:El Dorado Hills Town Center – On the Boulevard\, Town Center Blvd.\, El Dorado Hills\, CA\, 95762\, United States
CATEGORIES:Community Events
ATTACH;FMTTYPE=image/png:https://amboxie.com/wp-content/uploads/2025/12/one-cupcake.png
END:VEVENT
BEGIN:VEVENT
DTSTART;TZID=America/Los_Angeles:20260121T103000
DTEND;TZID=America/Los_Angeles:20260121T110000
DTSTAMP:20260419T075447
CREATED:20251217T021924Z
LAST-MODIFIED:20251217T021924Z
UID:10000510-1768991400-1768993200@amboxie.com
SUMMARY:EDH - Mother Goose On The Loose
DESCRIPTION:Mother Goose on the Loose is an award-winning program that combines music\, movement\, rhyming\, visual literacy\, and language development to help children get ready to read. This interactive\, lap-sit storytime is perfectly suited for infants and toddlers (ages birth – 2 years old) with their caregivers. Join Miss. Savannah and Mrs.Yanina at 9:30 or 10:30!
URL:https://amboxie.com/event/edh-mother-goose-on-the-loose/2026-01-21/2/
LOCATION:El Dorado Hills County Library\, 7455 Silva Valley Pkwy\, El Dorado Hills\, CA\, 95762\, United States
CATEGORIES:Community Events
ATTACH;FMTTYPE=image/png:https://amboxie.com/wp-content/uploads/2025/12/624-325-Eldorado.png
END:VEVENT
BEGIN:VEVENT
DTSTART;TZID=America/Los_Angeles:20260121T103000
DTEND;TZID=America/Los_Angeles:20260121T110000
DTSTAMP:20260419T075447
CREATED:20251219T024229Z
LAST-MODIFIED:20260104T004216Z
UID:10000541-1768991400-1768993200@amboxie.com
SUMMARY:Early Literacy Storytime - Georgetown
DESCRIPTION:Everyone is welcome!\nBuild your child’s pre-reading skills with this engaging and interactive program designed to support your child’s early literacy development for a lifelong love of reading and learning.\nSponsored by Georgetown Friends of the Library.
URL:https://amboxie.com/event/early-literacy-storytime-georgetown/2026-01-21/
LOCATION:El Dorado Hills County Library\, 7455 Silva Valley Pkwy\, El Dorado Hills\, CA\, 95762\, United States
CATEGORIES:Community Events
ATTACH;FMTTYPE=image/png:https://amboxie.com/wp-content/uploads/2025/12/624-325-early-2.png
END:VEVENT
BEGIN:VEVENT
DTSTART;TZID=America/Los_Angeles:20260121T150000
DTEND;TZID=America/Los_Angeles:20260121T160000
DTSTAMP:20260419T075447
CREATED:20260103T232538Z
LAST-MODIFIED:20260222T230549Z
UID:10000787-1769007600-1769011200@amboxie.com
SUMMARY:SLT - Friends of the Library Book Club
DESCRIPTION:Join us on the 3rd Wednesday of the month\, from 3 – 4 pm to discuss a variety of critically acclaimed books. Light refreshment and lively conversation provided! \n2026 Selections:\nJanuary 21 — The Bear and the Nightingale by Katherine Arden\nFebruary 18 — His Truth is Marching On by Jon Meacham\nMarch 18 — O Pioneers! by Willa Cather\nApril 15 — The Correspondent by Virginia Evans\nMay 20 — All the Beauty in the World by Patrick Bringley\nJune 17 — All the Broken Places by John Boyne\nJuly 15 — The Anxious Generation by Jonathan Haidt\nAugust 19 — The Wide Wide Sea by Hampton Sides\nSeptember 16 — Burnt by Clare Frank\nOctober 21 — Corelli’s Mandolin by Louis deBernieres\nNovember 18 — Uncultured by Daniella Mestyanek\nDecember 16 — Your favorite book\, poem or essay to share!
URL:https://amboxie.com/event/slt-friends-of-the-library-book-club/2026-01-21/
LOCATION:South Lake Tahoe Library\, 1000 Rufus Allen Blvd\, South Lake Tahoe\, CA\, 96150\, United States
CATEGORIES:Community Events
ATTACH;FMTTYPE=image/png:https://amboxie.com/wp-content/uploads/2026/01/624-325-slt-1.png
END:VEVENT
BEGIN:VEVENT
DTSTART;TZID=America/Los_Angeles:20260121T150000
DTEND;TZID=America/Los_Angeles:20260121T163000
DTSTAMP:20260419T075447
CREATED:20251205T222541Z
LAST-MODIFIED:20251205T222541Z
UID:10000304-1769007600-1769013000@amboxie.com
SUMMARY:Knit and Crochet Group in Georgetown
DESCRIPTION:Bring your current knit or crochet project and enjoy the company and conversation or other crafters.
URL:https://amboxie.com/event/knit-and-crochet-group-in-georgetown-7/
LOCATION:Georgetown Library\, 6680 Orleans Street\, Georgetown\, CA\, 95634\, United States
CATEGORIES:Community Events
ATTACH;FMTTYPE=image/png:https://amboxie.com/wp-content/uploads/2025/12/one-cupcake-1.png
END:VEVENT
BEGIN:VEVENT
DTSTART;TZID=America/Los_Angeles:20260121T160000
DTEND;TZID=America/Los_Angeles:20260121T170000
DTSTAMP:20260419T075447
CREATED:20251217T033035Z
LAST-MODIFIED:20260102T234519Z
UID:10000530-1769011200-1769014800@amboxie.com
SUMMARY:RUFF - Read Up For Fun! South Lake Tahoe Library
DESCRIPTION:Join the Humane Society of Truckee Tahoe for their weekly reading program with dogs! School age children can pick out a book to read to one of the teams between 4-5pm each Wednesday. The dog provides a safe audience for kids to practice their reading skills and become more comfortable reading out loud.\nSponsored by Humane Society of Truckee Tahoe.
URL:https://amboxie.com/event/ruff-read-up-for-fun-south-lake-tahoe-library/2026-01-21/
LOCATION:El Dorado Hills County Library\, 7455 Silva Valley Pkwy\, El Dorado Hills\, CA\, 95762\, United States
CATEGORIES:Community Events
ATTACH;FMTTYPE=image/png:https://amboxie.com/wp-content/uploads/2025/12/624-325-dog.png
END:VEVENT
BEGIN:VEVENT
DTSTART;TZID=America/Los_Angeles:20260121T180000
DTEND;TZID=America/Los_Angeles:20260121T185000
DTSTAMP:20260419T075447
CREATED:20251210T192700Z
LAST-MODIFIED:20260303T230949Z
UID:10000404-1769018400-1769021400@amboxie.com
SUMMARY:Teen Create Space At The Folsom Library
DESCRIPTION:Teens are invited to the Library Meeting Room for relaxing creative projects! \nTeen Create Space will meet on the third Wednesday of the month at 6 p.m. in the Library Meeting Room. Ages 13-18 only.  Each month’s activity will be different.
URL:https://amboxie.com/event/teen-create-space-at-the-folsom-library/2026-01-21/
LOCATION:Folsom Public Library\, 411 Stafford St\, Folsom\, 95630\, United States
CATEGORIES:Community Events
ATTACH;FMTTYPE=image/png:https://amboxie.com/wp-content/uploads/2026/01/624-325teen2.png
END:VEVENT
END:VCALENDAR